BEGIN:VCALENDAR
VERSION:2.0
PRODID:-//Petes Retreat Family Campground and RV Park in Aitkin, MN - ECPv6.15.1.1//NONSGML v1.0//EN
CALSCALE:GREGORIAN
METHOD:PUBLISH
X-ORIGINAL-URL:https://www.petesretreat.com
X-WR-CALDESC:Events for Petes Retreat Family Campground and RV Park in Aitkin, MN
REFRESH-INTERVAL;VALUE=DURATION:PT1H
X-Robots-Tag:noindex
X-PUBLISHED-TTL:PT1H
BEGIN:VTIMEZONE
TZID:UTC
BEGIN:STANDARD
TZOFFSETFROM:+0000
TZOFFSETTO:+0000
TZNAME:UTC
DTSTART:20260101T000000
END:STANDARD
END:VTIMEZONE
BEGIN:VTIMEZONE
TZID:America/Chicago
BEGIN:DAYLIGHT
TZOFFSETFROM:-0600
TZOFFSETTO:-0500
TZNAME:CDT
DTSTART:20260308T080000
END:DAYLIGHT
BEGIN:STANDARD
TZOFFSETFROM:-0500
TZOFFSETTO:-0600
TZNAME:CST
DTSTART:20261101T070000
END:STANDARD
END:VTIMEZONE
BEGIN:VEVENT
DTSTART;TZID=UTC:20260905T100000
DTEND;TZID=UTC:20260905T110000
DTSTAMP:20260423T235528
CREATED:20260407T154317Z
LAST-MODIFIED:20260407T155516Z
UID:4961-1788602400-1788606000@www.petesretreat.com
SUMMARY:Pete's Retreat Medallion Hunt Clues
DESCRIPTION:Each Saturday\, Pete’s Retreat will give out 3 clues for a medallion hunt. Starting at 10am\, come to the lodge to get your 1st clue! If not found\, the 2nd clue will be given out at 10:30am. If not found\, the 3rd clue will be given out at 11am. The first one to find the Pete’s Retreat Medallion will win a token! Come exchange the medallion for a token at the lodge!
URL:https://www.petesretreat.com/event/petes-retreat-medallion-hunt-clues-19/
LOCATION:Lodge
CATEGORIES:Our Events
END:VEVENT
BEGIN:VEVENT
DTSTART;TZID=America/Chicago:20260905T140000
DTEND;TZID=America/Chicago:20260905T170000
DTSTAMP:20260423T235528
CREATED:20230310T221553Z
LAST-MODIFIED:20260407T150627Z
UID:4371-1788616800-1788627600@www.petesretreat.com
SUMMARY:Adult Bingo
DESCRIPTION:Adult Bingo! 2:00PM at the Pavilion! 10 Games. $20 per card. Each card has 10 games. Each prize is at least a $30+ prize.
URL:https://www.petesretreat.com/event/adult-bingo-2/
LOCATION:Pavilion
CATEGORIES:Our Events
ATTACH;FMTTYPE=image/png:https://www.petesretreat.com/wp-content/uploads/2023/03/Bingo.png
END:VEVENT
BEGIN:VEVENT
DTSTART;TZID=UTC:20260905T140000
DTEND;TZID=UTC:20260905T170000
DTSTAMP:20260423T235528
CREATED:20260407T151014Z
LAST-MODIFIED:20260407T155506Z
UID:4907-1788616800-1788627600@www.petesretreat.com
SUMMARY:Bean Bag Tournament
DESCRIPTION:Bean Bag Tournament! 2:00PM at the Pavilion. $5 per person to play. Winning team splits the pot. Draw for your teammate! Bring your bean bag boards if you have a set! We will have a kids tournament and an adults tournament!
URL:https://www.petesretreat.com/event/bean-bag-tournament/
LOCATION:Pavilion
CATEGORIES:Our Events
END:VEVENT
BEGIN:VEVENT
DTSTART;TZID=UTC:20260905T170000
DTEND;TZID=UTC:20260905T220000
DTSTAMP:20260423T235528
CREATED:20250312T203922Z
LAST-MODIFIED:20260407T150826Z
UID:4762-1788627600-1788645600@www.petesretreat.com
SUMMARY:Adult Shenanigans
DESCRIPTION:Bring a snack/drink to share. Meet us at the pavilion for adult shenanigan games (Tippy Cup\, Lawn Darts\, Beer Pong\, Musical Chairs\, and more!)
URL:https://www.petesretreat.com/event/adult-shenanigans/
LOCATION:Pavilion
CATEGORIES:Our Events
END:VEVENT
BEGIN:VEVENT
DTSTART;TZID=UTC:20260906T183000
DTEND;TZID=UTC:20260906T230000
DTSTAMP:20260423T235528
CREATED:20260407T151154Z
LAST-MODIFIED:20260407T155455Z
UID:4910-1788719400-1788735600@www.petesretreat.com
SUMMARY:Karaoke
DESCRIPTION:Join us for Karaoke at 6:30PM at the Pavilion. Bring your singing voices! All ages are welcome! Kids sing from 6:30pm-7:30pm
URL:https://www.petesretreat.com/event/karaoke-2/
LOCATION:Pavilion
CATEGORIES:Our Events
END:VEVENT
BEGIN:VEVENT
DTSTART;TZID=UTC:20260907T190000
DTEND;TZID=UTC:20260907T190000
DTSTAMP:20260423T235528
CREATED:20260407T154537Z
LAST-MODIFIED:20260407T155442Z
UID:4969-1788807600-1788807600@www.petesretreat.com
SUMMARY:Pools Close
DESCRIPTION:Pools close tonight at 7pm\, for the season. Hop in and enjoy while you can!
URL:https://www.petesretreat.com/event/pools-close/
LOCATION:Lodge
CATEGORIES:Our Events
END:VEVENT
BEGIN:VEVENT
DTSTART;TZID=UTC:20260912T100000
DTEND;TZID=UTC:20260912T110000
DTSTAMP:20260423T235528
CREATED:20260407T154334Z
LAST-MODIFIED:20260407T155429Z
UID:4963-1789207200-1789210800@www.petesretreat.com
SUMMARY:Pete's Retreat Medallion Hunt Clues
DESCRIPTION:Each Saturday\, Pete’s Retreat will give out 3 clues for a medallion hunt. Starting at 10am\, come to the lodge to get your 1st clue! If not found\, the 2nd clue will be given out at 10:30am. If not found\, the 3rd clue will be given out at 11am. The first one to find the Pete’s Retreat Medallion will win a token! Come exchange the medallion for a token at the lodge!
URL:https://www.petesretreat.com/event/petes-retreat-medallion-hunt-clues-20/
LOCATION:Lodge
CATEGORIES:Our Events
END:VEVENT
BEGIN:VEVENT
DTSTART;TZID=America/Chicago:20260912T100000
DTEND;TZID=America/Chicago:20260912T120000
DTSTAMP:20260423T235528
CREATED:20230310T220314Z
LAST-MODIFIED:20260407T151359Z
UID:4360-1789207200-1789214400@www.petesretreat.com
SUMMARY:Diamond Painting
DESCRIPTION:Make your own Diamond Painting creation! Meet us at 10:00AM at the lodge! Please bring a parent to help you!
URL:https://www.petesretreat.com/event/make-your-own-usa-diamond-painting-keychain/
LOCATION:Lodge
CATEGORIES:Our Events
ATTACH;FMTTYPE=image/jpeg:https://www.petesretreat.com/wp-content/uploads/2023/03/USA.jpg
END:VEVENT
BEGIN:VEVENT
DTSTART;TZID=UTC:20260912T120000
DTEND;TZID=UTC:20260912T190000
DTSTAMP:20260423T235528
CREATED:20250312T204147Z
LAST-MODIFIED:20260407T151438Z
UID:4765-1789214400-1789239600@www.petesretreat.com
SUMMARY:Open Pool Table In The Lodge
DESCRIPTION:Come to the lodge and play open pool!
URL:https://www.petesretreat.com/event/open-pool-table-in-the-lodge/
LOCATION:Lodge
CATEGORIES:Our Events
END:VEVENT
BEGIN:VEVENT
DTSTART;TZID=UTC:20260919T100000
DTEND;TZID=UTC:20260919T110000
DTSTAMP:20260423T235528
CREATED:20260407T154350Z
LAST-MODIFIED:20260407T155418Z
UID:4965-1789812000-1789815600@www.petesretreat.com
SUMMARY:Pete's Retreat Medallion Hunt Clues
DESCRIPTION:Each Saturday\, Pete’s Retreat will give out 3 clues for a medallion hunt. Starting at 10am\, come to the lodge to get your 1st clue! If not found\, the 2nd clue will be given out at 10:30am. If not found\, the 3rd clue will be given out at 11am. The first one to find the Pete’s Retreat Medallion will win a token! Come exchange the medallion for a token at the lodge!
URL:https://www.petesretreat.com/event/petes-retreat-medallion-hunt-clues-21/
LOCATION:Lodge
CATEGORIES:Our Events
END:VEVENT
BEGIN:VEVENT
DTSTART;TZID=America/Chicago:20260919T130000
DTEND;TZID=America/Chicago:20260919T170000
DTSTAMP:20260423T235528
CREATED:20230310T222300Z
LAST-MODIFIED:20260407T151603Z
UID:4379-1789822800-1789837200@www.petesretreat.com
SUMMARY:Seasonal Camper Appreciation
DESCRIPTION:We supply all the food! Burgers\, potatoes\, cold salad\, and all the fixings! A small “thank you” for supporting our wonderful\, family owned\, campground!
URL:https://www.petesretreat.com/event/seasonal-camper-appriciation/
LOCATION:Pavilion
CATEGORIES:Our Events
ATTACH;FMTTYPE=image/jpeg:https://www.petesretreat.com/wp-content/uploads/2023/03/Appriciation.jpg
END:VEVENT
BEGIN:VEVENT
DTSTART;TZID=America/Chicago:20260919T170000
DTEND;TZID=America/Chicago:20260919T190000
DTSTAMP:20260423T235528
CREATED:20230310T222419Z
LAST-MODIFIED:20260407T151648Z
UID:4381-1789837200-1789844400@www.petesretreat.com
SUMMARY:Adults only Hayride
DESCRIPTION:Adults only Hayride! Meet us on the west side of the lodge at 5:00PM! We will go to Castaways!
URL:https://www.petesretreat.com/event/adults-only-hayride/
LOCATION:Lodge
CATEGORIES:Our Events
ATTACH;FMTTYPE=image/jpeg:https://www.petesretreat.com/wp-content/uploads/2023/03/Adult-Hayride-scaled.jpg
END:VEVENT
BEGIN:VEVENT
DTSTART;TZID=America/Chicago:20260919T193000
DTEND;TZID=America/Chicago:20260919T233000
DTSTAMP:20260423T235528
CREATED:20230310T222603Z
LAST-MODIFIED:20260407T151726Z
UID:4383-1789846200-1789860600@www.petesretreat.com
SUMMARY:PC Party
DESCRIPTION:PC Party! Meet us at PC after the adults only hayride! We will supply all of the firewood! BYOB!
URL:https://www.petesretreat.com/event/pc-party/
LOCATION:PC
CATEGORIES:Our Events
ATTACH;FMTTYPE=image/jpeg:https://www.petesretreat.com/wp-content/uploads/2023/03/PC-scaled.jpg
END:VEVENT
BEGIN:VEVENT
DTSTART;TZID=UTC:20260926T100000
DTEND;TZID=UTC:20260926T110000
DTSTAMP:20260423T235528
CREATED:20260407T154409Z
LAST-MODIFIED:20260407T155403Z
UID:4967-1790416800-1790420400@www.petesretreat.com
SUMMARY:Pete's Retreat Medallion Hunt Clues
DESCRIPTION:Each Saturday\, Pete’s Retreat will give out 3 clues for a medallion hunt. Starting at 10am\, come to the lodge to get your 1st clue! If not found\, the 2nd clue will be given out at 10:30am. If not found\, the 3rd clue will be given out at 11am. The first one to find the Pete’s Retreat Medallion will win a token! Come exchange the medallion for a token at the lodge!
URL:https://www.petesretreat.com/event/petes-retreat-medallion-hunt-clues-22/
LOCATION:Lodge
CATEGORIES:Our Events
END:VEVENT
BEGIN:VEVENT
DTSTART;VALUE=DATE:20260930
DTEND;VALUE=DATE:20261001
DTSTAMP:20260423T235528
CREATED:20230310T222834Z
LAST-MODIFIED:20260407T151819Z
UID:4385-1790726400-1790812799@www.petesretreat.com
SUMMARY:Last night to spend in the campground
DESCRIPTION:Last night to spend in the campground.
URL:https://www.petesretreat.com/event/last-night-to-spend-in-the-campground/
LOCATION:Campground
CATEGORIES:Our Events
ATTACH;FMTTYPE=image/jpeg:https://www.petesretreat.com/wp-content/uploads/2023/03/campground.jpg
END:VEVENT
BEGIN:VEVENT
DTSTART;TZID=America/Chicago:20261001T110000
DTEND;TZID=America/Chicago:20261001T110000
DTSTAMP:20260423T235528
CREATED:20230310T222941Z
LAST-MODIFIED:20260407T151851Z
UID:4387-1790852400-1790852400@www.petesretreat.com
SUMMARY:Campground Closed
DESCRIPTION:Campground Closed. Checkout is at 11AM. \nThank you for supporting our campground!
URL:https://www.petesretreat.com/event/campground-closed/
LOCATION:Campground
CATEGORIES:Our Events
ATTACH;FMTTYPE=image/jpeg:https://www.petesretreat.com/wp-content/uploads/2023/03/Thank-you-for-Supporting-our-small-business.jpg
END:VEVENT
END:VCALENDAR