BEGIN:VCALENDAR
VERSION:2.0
PRODID:-//Petes Retreat Family Campground and RV Park in Aitkin, MN - ECPv6.15.1.1//NONSGML v1.0//EN
CALSCALE:GREGORIAN
METHOD:PUBLISH
X-WR-CALNAME:Petes Retreat Family Campground and RV Park in Aitkin, MN
X-ORIGINAL-URL:https://www.petesretreat.com
X-WR-CALDESC:Events for Petes Retreat Family Campground and RV Park in Aitkin, MN
REFRESH-INTERVAL;VALUE=DURATION:PT1H
X-Robots-Tag:noindex
X-PUBLISHED-TTL:PT1H
BEGIN:VTIMEZONE
TZID:America/Chicago
BEGIN:DAYLIGHT
TZOFFSETFROM:-0600
TZOFFSETTO:-0500
TZNAME:CDT
DTSTART:20260308T080000
END:DAYLIGHT
BEGIN:STANDARD
TZOFFSETFROM:-0500
TZOFFSETTO:-0600
TZNAME:CST
DTSTART:20261101T070000
END:STANDARD
END:VTIMEZONE
BEGIN:VTIMEZONE
TZID:UTC
BEGIN:STANDARD
TZOFFSETFROM:+0000
TZOFFSETTO:+0000
TZNAME:UTC
DTSTART:20260101T000000
END:STANDARD
END:VTIMEZONE
BEGIN:VEVENT
DTSTART;TZID=America/Chicago:20260613T190000
DTEND;TZID=America/Chicago:20260613T193000
DTSTAMP:20260423T200610
CREATED:20230310T183904Z
LAST-MODIFIED:20260407T021256Z
UID:4302-1781377200-1781379000@www.petesretreat.com
SUMMARY:Hayride
DESCRIPTION:Hayride at 7:00PM! Meet on west side of the lodge!
URL:https://www.petesretreat.com/event/hayride-2/
LOCATION:Lodge
CATEGORIES:Our Events
ATTACH;FMTTYPE=image/jpeg:https://www.petesretreat.com/wp-content/uploads/2023/03/Hayride-1-scaled.jpg
END:VEVENT
BEGIN:VEVENT
DTSTART;TZID=UTC:20260620T100000
DTEND;TZID=UTC:20260620T110000
DTSTAMP:20260423T200610
CREATED:20260407T153806Z
LAST-MODIFIED:20260407T160056Z
UID:4939-1781949600-1781953200@www.petesretreat.com
SUMMARY:Pete's Retreat Medallion Hunt Clues
DESCRIPTION:Each Saturday\, Pete’s Retreat will give out 3 clues for a medallion hunt. Starting at 10am\, come to the lodge to get your 1st clue! If not found\, the 2nd clue will be given out at 10:30am. If not found\, the 3rd clue will be given out at 11am. The first one to find the Pete’s Retreat Medallion will win a token! Come exchange the medallion for a token at the lodge!
URL:https://www.petesretreat.com/event/petes-retreat-medallion-hunt-clues-8/
LOCATION:Lodge
CATEGORIES:Our Events
END:VEVENT
BEGIN:VEVENT
DTSTART;TZID=America/Chicago:20260620T130000
DTEND;TZID=America/Chicago:20260620T150000
DTSTAMP:20260423T200610
CREATED:20230310T182908Z
LAST-MODIFIED:20260407T142036Z
UID:4300-1781960400-1781967600@www.petesretreat.com
SUMMARY:Father's Day Craft
DESCRIPTION:Father’s Day Craft! 1:00PM at the Pavilion. We provide all the supplies! Bring anyone but your dad to help you! Your craft will be a surprise for your Dad!
URL:https://www.petesretreat.com/event/fathers-day-craft/
LOCATION:Pavilion
CATEGORIES:Our Events
ATTACH;FMTTYPE=image/jpeg:https://www.petesretreat.com/wp-content/uploads/2017/12/Kids-Crafts-scaled.jpg
END:VEVENT
BEGIN:VEVENT
DTSTART;TZID=UTC:20260620T160000
DTEND;TZID=UTC:20260620T200000
DTSTAMP:20260423T200610
CREATED:20250312T191844Z
LAST-MODIFIED:20260407T160040Z
UID:4690-1781971200-1781985600@www.petesretreat.com
SUMMARY:LIVE Old Country Music by Ron E. Cash
DESCRIPTION:Come join us at the pavilion for LIVE Old Country Music by Ron E. Cash! 4pm at the Pavilion. We hope you will enjoy this as much as we will!
URL:https://www.petesretreat.com/event/live-old-country-music-by-ron-e-cash/
LOCATION:Pavilion
CATEGORIES:Our Events
END:VEVENT
BEGIN:VEVENT
DTSTART;TZID=America/Chicago:20260620T190000
DTEND;TZID=America/Chicago:20260620T193000
DTSTAMP:20260423T200610
CREATED:20230310T184217Z
LAST-MODIFIED:20260407T142210Z
UID:4306-1781982000-1781983800@www.petesretreat.com
SUMMARY:Hayride
DESCRIPTION:Hayride at 7:00PM! Meet on the west side of lodge.
URL:https://www.petesretreat.com/event/hayride-4/
LOCATION:Lodge
CATEGORIES:Our Events
ATTACH;FMTTYPE=image/jpeg:https://www.petesretreat.com/wp-content/uploads/2023/03/Hayride-1-scaled.jpg
END:VEVENT
BEGIN:VEVENT
DTSTART;TZID=America/Chicago:20260621T100000
DTEND;TZID=America/Chicago:20260621T110000
DTSTAMP:20260423T200610
CREATED:20230310T184043Z
LAST-MODIFIED:20260407T142249Z
UID:4304-1782036000-1782039600@www.petesretreat.com
SUMMARY:Free Ice Cream Cones for Daddy's
DESCRIPTION:Free Ice Cream Cones for Daddy’s! Starts at 10:00AM at the Lodge! Happy Father’s Day!
URL:https://www.petesretreat.com/event/free-ice-cream-cones-for-daddys/
LOCATION:Lodge
CATEGORIES:Our Events
ATTACH;FMTTYPE=image/jpeg:https://www.petesretreat.com/wp-content/uploads/2023/03/Fathers-Day-Ice-Cream-Cone.jpg
END:VEVENT
BEGIN:VEVENT
DTSTART;TZID=America/Chicago:20260626T190000
DTEND;TZID=America/Chicago:20260626T193000
DTSTAMP:20260423T200610
CREATED:20230310T184745Z
LAST-MODIFIED:20260407T142331Z
UID:4312-1782500400-1782502200@www.petesretreat.com
SUMMARY:Hayride
DESCRIPTION:Hayride at 7:00PM! Meet on the west side of the lodge! This week’s hayride is on Friday instead of Saturday due to PROM!
URL:https://www.petesretreat.com/event/hayride-5/
LOCATION:Lodge
CATEGORIES:Our Events
ATTACH;FMTTYPE=image/jpeg:https://www.petesretreat.com/wp-content/uploads/2023/03/Hayride-1-scaled.jpg
END:VEVENT
BEGIN:VEVENT
DTSTART;TZID=UTC:20260627T100000
DTEND;TZID=UTC:20260627T110000
DTSTAMP:20260423T200610
CREATED:20260407T153827Z
LAST-MODIFIED:20260407T160019Z
UID:4941-1782554400-1782558000@www.petesretreat.com
SUMMARY:Pete's Retreat Medallion Hunt Clues
DESCRIPTION:Each Saturday\, Pete’s Retreat will give out 3 clues for a medallion hunt. Starting at 10am\, come to the lodge to get your 1st clue! If not found\, the 2nd clue will be given out at 10:30am. If not found\, the 3rd clue will be given out at 11am. The first one to find the Pete’s Retreat Medallion will win a token! Come exchange the medallion for a token at the lodge!
URL:https://www.petesretreat.com/event/petes-retreat-medallion-hunt-clues-9/
LOCATION:Lodge
CATEGORIES:Our Events
END:VEVENT
BEGIN:VEVENT
DTSTART;TZID=America/Chicago:20260627T180000
DTEND;TZID=America/Chicago:20260628T020000
DTSTAMP:20260423T200610
CREATED:20230310T184447Z
LAST-MODIFIED:20260407T142515Z
UID:4308-1782583200-1782612000@www.petesretreat.com
SUMMARY:Pete's Retreat Prom
DESCRIPTION:Pete’s Retreat Prom! Starts at 6:00PM at the Pavilion. This years theme is a decades/neon glow party! Reminder that quiet time has been moved to approximately 2AM for this event!
URL:https://www.petesretreat.com/event/prom-hawaiian-theme/
LOCATION:Pavilion
CATEGORIES:Our Events
ATTACH;FMTTYPE=image/jpeg:https://www.petesretreat.com/wp-content/uploads/2023/03/Prom-scaled.jpg
END:VEVENT
BEGIN:VEVENT
DTSTART;TZID=America/Chicago:20260629T080000
DTEND;TZID=America/Chicago:20260703T110000
DTSTAMP:20260423T200610
CREATED:20230310T184648Z
LAST-MODIFIED:20260407T142624Z
UID:4310-1782720000-1783076400@www.petesretreat.com
SUMMARY:Swimming Lessons
DESCRIPTION:6/29/26 – 7/3/26 – Swimming Lessons! 8AM – 11AM each day. Classes are 30 minutes each. To sign up\, visit our website at www.petesretreat.com and click “information – swimming lessons”. Read the information listed\, complete the consent form and we will be in contact with you! Classes fill up fast – sign up today! The big pool will be closed to regular swimmers until 11am each day this week. Sorry for any inconvenience!
URL:https://www.petesretreat.com/event/swimming-lessons/
LOCATION:Lodge
CATEGORIES:Our Events
ATTACH;FMTTYPE=image/jpeg:https://www.petesretreat.com/wp-content/uploads/2023/03/Swimming-Lessons-scaled.jpg
END:VEVENT
BEGIN:VEVENT
DTSTART;TZID=UTC:20260703T180000
DTEND;TZID=UTC:20260703T200000
DTSTAMP:20260423T200610
CREATED:20230310T165044Z
LAST-MODIFIED:20260407T142901Z
UID:4285-1783101600-1783108800@www.petesretreat.com
SUMMARY:Bean Bag Tournament
DESCRIPTION:Bean Bag Tournament! 6:00PM at the Pavilion. $5 per person to play. Winning team splits the pot. Draw for your teammate! Bring your bean bag boards if you have a set! We will have a kids tournament and an adults tournament!
URL:https://www.petesretreat.com/event/adult-bean-bag-tournament/
LOCATION:Pavilion
CATEGORIES:Our Events
ATTACH;FMTTYPE=image/jpeg:https://www.petesretreat.com/wp-content/uploads/2023/03/bags.jpg
END:VEVENT
BEGIN:VEVENT
DTSTART;TZID=UTC:20260704T100000
DTEND;TZID=UTC:20260704T110000
DTSTAMP:20260423T200610
CREATED:20260407T153847Z
LAST-MODIFIED:20260407T160003Z
UID:4943-1783159200-1783162800@www.petesretreat.com
SUMMARY:Pete's Retreat Medallion Hunt Clues
DESCRIPTION:Each Saturday\, Pete’s Retreat will give out 3 clues for a medallion hunt. Starting at 10am\, come to the lodge to get your 1st clue! If not found\, the 2nd clue will be given out at 10:30am. If not found\, the 3rd clue will be given out at 11am. The first one to find the Pete’s Retreat Medallion will win a token! Come exchange the medallion for a token at the lodge!
URL:https://www.petesretreat.com/event/petes-retreat-medallion-hunt-clues-10/
LOCATION:Lodge
CATEGORIES:Our Events
END:VEVENT
BEGIN:VEVENT
DTSTART;TZID=America/Chicago:20260704T100000
DTEND;TZID=America/Chicago:20260704T120000
DTSTAMP:20260423T200610
CREATED:20230310T192734Z
LAST-MODIFIED:20260407T143232Z
UID:4318-1783159200-1783166400@www.petesretreat.com
SUMMARY:4th Of July Parade in Glen
DESCRIPTION:Annual 4th of July Parade in Glen! Parade starts at 10:30 AM! If seasonal kids would like to ride the float\, you must find us in the parade line in Glen to get on the float by 10AM. All others\, watch for us in the parade! We throw LOTS of candy!!!
URL:https://www.petesretreat.com/event/parade-in-glen/
LOCATION:Glen
CATEGORIES:Our Events
ATTACH;FMTTYPE=image/jpeg:https://www.petesretreat.com/wp-content/uploads/2023/03/Glen-Parade-scaled.jpg
END:VEVENT
BEGIN:VEVENT
DTSTART;TZID=America/Chicago:20260704T140000
DTEND;TZID=America/Chicago:20260704T170000
DTSTAMP:20260423T200610
CREATED:20230310T185051Z
LAST-MODIFIED:20260407T143212Z
UID:4314-1783173600-1783184400@www.petesretreat.com
SUMMARY:Decorate your Bikes & Golf Carts
DESCRIPTION:Decorate your Bikes & Golf Carts! Meet us at the lodge at 2:00PM! We provide some decorations\, feel free to bring some of your own!
URL:https://www.petesretreat.com/event/decorate-your-bikes-golf-carts/
LOCATION:Lodge
CATEGORIES:Our Events
ATTACH;FMTTYPE=image/jpeg:https://www.petesretreat.com/wp-content/uploads/2023/02/6-1.jpg
END:VEVENT
BEGIN:VEVENT
DTSTART;TZID=America/Chicago:20260704T180000
DTEND;TZID=America/Chicago:20260704T183000
DTSTAMP:20260423T200610
CREATED:20230310T192410Z
LAST-MODIFIED:20260407T143309Z
UID:4316-1783188000-1783189800@www.petesretreat.com
SUMMARY:Kids 4th Of July Bike Parade
DESCRIPTION:Kids 4th of July Bike Parade! Meet us at 6:00PM on the West side of the Lodge! No candy thrown at this one. Just watch and enjoy!
URL:https://www.petesretreat.com/event/bike-parade/
LOCATION:Lodge
CATEGORIES:Our Events
ATTACH;FMTTYPE=image/jpeg:https://www.petesretreat.com/wp-content/uploads/2023/02/6-1.jpg
END:VEVENT
BEGIN:VEVENT
DTSTART;TZID=America/Chicago:20260704T183000
DTEND;TZID=America/Chicago:20260704T190000
DTSTAMP:20260423T200610
CREATED:20230321T011821Z
LAST-MODIFIED:20260407T143327Z
UID:4462-1783189800-1783191600@www.petesretreat.com
SUMMARY:Adults 4th of July Golf Cart Parade
DESCRIPTION:Adults 4th of July Golf Cart Parade! Meet us at 6:30PM on the West side of the Lodge! Line your kids up at your site so we can throw candy to them from our golf carts!
URL:https://www.petesretreat.com/event/adults-golf-cart-parade/
LOCATION:Lodge
CATEGORIES:Our Events
ATTACH;FMTTYPE=image/jpeg:https://www.petesretreat.com/wp-content/uploads/2023/03/Golf-Cart-Parade-scaled.jpg
END:VEVENT
BEGIN:VEVENT
DTSTART;TZID=America/Chicago:20260704T190000
DTEND;TZID=America/Chicago:20260704T193000
DTSTAMP:20260423T200610
CREATED:20230310T210724Z
LAST-MODIFIED:20260407T143355Z
UID:4327-1783191600-1783193400@www.petesretreat.com
SUMMARY:Hayride
DESCRIPTION:Hayride at 7:00PM! Meet on the west side of the lodge!
URL:https://www.petesretreat.com/event/hayride-7/
LOCATION:Lodge
CATEGORIES:Our Events
ATTACH;FMTTYPE=image/jpeg:https://www.petesretreat.com/wp-content/uploads/2023/02/4-4.jpg
END:VEVENT
BEGIN:VEVENT
DTSTART;TZID=UTC:20260711T100000
DTEND;TZID=UTC:20260711T110000
DTSTAMP:20260423T200610
CREATED:20260407T154029Z
LAST-MODIFIED:20260407T155944Z
UID:4945-1783764000-1783767600@www.petesretreat.com
SUMMARY:Pete's Retreat Medallion Hunt Clues
DESCRIPTION:Each Saturday\, Pete’s Retreat will give out 3 clues for a medallion hunt. Starting at 10am\, come to the lodge to get your 1st clue! If not found\, the 2nd clue will be given out at 10:30am. If not found\, the 3rd clue will be given out at 11am. The first one to find the Pete’s Retreat Medallion will win a token! Come exchange the medallion for a token at the lodge!
URL:https://www.petesretreat.com/event/petes-retreat-medallion-hunt-clues-11/
LOCATION:Lodge
CATEGORIES:Our Events
END:VEVENT
BEGIN:VEVENT
DTSTART;TZID=UTC:20260711T140000
DTEND;TZID=UTC:20260711T170000
DTSTAMP:20260423T200610
CREATED:20250312T192733Z
LAST-MODIFIED:20260407T143519Z
UID:4694-1783778400-1783789200@www.petesretreat.com
SUMMARY:Pete's Retreat Poker Run
DESCRIPTION:Join us for our 2nd annual Pete’s Retreat Poker Run! This is going to be SO much fun! Meet us at the pavilion at 2:00PM to review the rules and details\, as well as the starting point. We are in need of 7 “host sites”. Talk to Alissa and Torrey about this ahead of time if you are interested in hosting.
URL:https://www.petesretreat.com/event/petes-retreat-poker-run/
LOCATION:Campground
CATEGORIES:Our Events
END:VEVENT
BEGIN:VEVENT
DTSTART;TZID=America/Chicago:20260711T190000
DTEND;TZID=America/Chicago:20260711T193000
DTSTAMP:20260423T200610
CREATED:20230310T211148Z
LAST-MODIFIED:20260407T143538Z
UID:4329-1783796400-1783798200@www.petesretreat.com
SUMMARY:Hayride
DESCRIPTION:Hayride at 7:00PM! Meet on the west side of the lodge!
URL:https://www.petesretreat.com/event/hayride-8/
LOCATION:Lodge
CATEGORIES:Our Events
ATTACH;FMTTYPE=image/jpeg:https://www.petesretreat.com/wp-content/uploads/2023/02/4-4.jpg
END:VEVENT
BEGIN:VEVENT
DTSTART;TZID=America/Chicago:20260711T210000
DTEND;TZID=America/Chicago:20260711T233000
DTSTAMP:20260423T200610
CREATED:20230310T211631Z
LAST-MODIFIED:20260407T143623Z
UID:4331-1783803600-1783812600@www.petesretreat.com
SUMMARY:Adults After Hours Pool Party
DESCRIPTION:Adults After Hours Pool Party! Meet us at the pool at 9:00PM! BYOB – No glass!
URL:https://www.petesretreat.com/event/adults-after-hours-pool-party/
LOCATION:Lodge
CATEGORIES:Our Events
ATTACH;FMTTYPE=image/jpeg:https://www.petesretreat.com/wp-content/uploads/2023/03/Pool-scaled.jpg
END:VEVENT
BEGIN:VEVENT
DTSTART;TZID=UTC:20260718T100000
DTEND;TZID=UTC:20260718T110000
DTSTAMP:20260423T200610
CREATED:20260407T154059Z
LAST-MODIFIED:20260407T155925Z
UID:4947-1784368800-1784372400@www.petesretreat.com
SUMMARY:Pete's Retreat Medallion Hunt Clues
DESCRIPTION:Each Saturday\, Pete’s Retreat will give out 3 clues for a medallion hunt. Starting at 10am\, come to the lodge to get your 1st clue! If not found\, the 2nd clue will be given out at 10:30am. If not found\, the 3rd clue will be given out at 11am. The first one to find the Pete’s Retreat Medallion will win a token! Come exchange the medallion for a token at the lodge!
URL:https://www.petesretreat.com/event/petes-retreat-medallion-hunt-clues-12/
LOCATION:Lodge
CATEGORIES:Our Events
END:VEVENT
BEGIN:VEVENT
DTSTART;TZID=America/Chicago:20260718T120000
DTEND;TZID=America/Chicago:20260718T130000
DTSTAMP:20260423T200610
CREATED:20230310T213423Z
LAST-MODIFIED:20260407T143705Z
UID:4337-1784376000-1784379600@www.petesretreat.com
SUMMARY:Minnow Races
DESCRIPTION:Minnow Races. Meet us at the Pavilion at 12:00PM! We provide the minnows!
URL:https://www.petesretreat.com/event/minnow-races/
LOCATION:Pavilion
CATEGORIES:Our Events
ATTACH;FMTTYPE=image/jpeg:https://www.petesretreat.com/wp-content/uploads/2023/03/Minnow-Races-scaled.jpg
END:VEVENT
BEGIN:VEVENT
DTSTART;TZID=America/Chicago:20260718T140000
DTEND;TZID=America/Chicago:20260718T150000
DTSTAMP:20260423T200610
CREATED:20230310T213710Z
LAST-MODIFIED:20260407T143750Z
UID:4339-1784383200-1784386800@www.petesretreat.com
SUMMARY:Kids Fishing Contest
DESCRIPTION:Kids Fishing Contest! Starts at 2:00PM Sharp at the Pavilion/Fishing Pond. Who will win this year?!?! There are some big fish in the pond!
URL:https://www.petesretreat.com/event/kids-fishing-contest/
LOCATION:Pond
CATEGORIES:Our Events
ATTACH;FMTTYPE=image/jpeg:https://www.petesretreat.com/wp-content/uploads/2023/03/Kids-Fishing-Contest-scaled.jpg
END:VEVENT
BEGIN:VEVENT
DTSTART;TZID=UTC:20260718T160000
DTEND;TZID=UTC:20260718T170000
DTSTAMP:20260423T200610
CREATED:20240109T023512Z
LAST-MODIFIED:20260407T143836Z
UID:4589-1784390400-1784394000@www.petesretreat.com
SUMMARY:Campground Wiffle Ball Game
DESCRIPTION:Join us at the pavilion for a campground wiffle ball game at 4pm! All ages welcome!
URL:https://www.petesretreat.com/event/campground-baseball-game/
LOCATION:Pavilion
CATEGORIES:Our Events
END:VEVENT
BEGIN:VEVENT
DTSTART;TZID=America/Chicago:20260718T190000
DTEND;TZID=America/Chicago:20260718T193000
DTSTAMP:20260423T200610
CREATED:20230310T214344Z
LAST-MODIFIED:20260407T143907Z
UID:4341-1784401200-1784403000@www.petesretreat.com
SUMMARY:Hayride
DESCRIPTION:Hayride at 7:00PM! Meet on the west side of the lodge!
URL:https://www.petesretreat.com/event/hayride-9/
LOCATION:Lodge
CATEGORIES:Our Events
ATTACH;FMTTYPE=image/jpeg:https://www.petesretreat.com/wp-content/uploads/2023/02/4-4.jpg
END:VEVENT
BEGIN:VEVENT
DTSTART;TZID=UTC:20260720T080000
DTEND;TZID=UTC:20260724T110000
DTSTAMP:20260423T200610
CREATED:20250312T194337Z
LAST-MODIFIED:20260407T143952Z
UID:4710-1784534400-1784890800@www.petesretreat.com
SUMMARY:Swimming Lessons
DESCRIPTION:7/20/26 – 7/24/26 – Swimming Lessons! 8AM – 11AM each day. Classes are 30 minutes each. To sign up\, visit our website at www.petesretreat.com and click “information – swimming lessons”. Read the information listed\, complete the consent form and we will be in contact with you! Classes fill up fast – sign up today! The big pool will be closed to regular swimmers until 11am each day this week. Sorry for any inconvenience!
URL:https://www.petesretreat.com/event/swimming-lessons-3/
LOCATION:Lodge
CATEGORIES:Our Events
END:VEVENT
BEGIN:VEVENT
DTSTART;TZID=America/Chicago:20260723T190000
DTEND;TZID=America/Chicago:20260723T200000
DTSTAMP:20260423T200610
CREATED:20230310T212132Z
LAST-MODIFIED:20260407T144032Z
UID:4335-1784833200-1784836800@www.petesretreat.com
SUMMARY:Free Smores
DESCRIPTION:Free Smores! Meet us at the firepit by the pond at 7:00PM. Come join us!!!
URL:https://www.petesretreat.com/event/free-smores-2/
LOCATION:Pond
CATEGORIES:Our Events
ATTACH;FMTTYPE=image/jpeg:https://www.petesretreat.com/wp-content/uploads/2023/03/smore.jpg
END:VEVENT
BEGIN:VEVENT
DTSTART;TZID=UTC:20260725T100000
DTEND;TZID=UTC:20260725T110000
DTSTAMP:20260423T200610
CREATED:20260407T154119Z
LAST-MODIFIED:20260407T155804Z
UID:4949-1784973600-1784977200@www.petesretreat.com
SUMMARY:Pete's Retreat Medallion Hunt Clues
DESCRIPTION:Each Saturday\, Pete’s Retreat will give out 3 clues for a medallion hunt. Starting at 10am\, come to the lodge to get your 1st clue! If not found\, the 2nd clue will be given out at 10:30am. If not found\, the 3rd clue will be given out at 11am. The first one to find the Pete’s Retreat Medallion will win a token! Come exchange the medallion for a token at the lodge!
URL:https://www.petesretreat.com/event/petes-retreat-medallion-hunt-clues-13/
LOCATION:Lodge
CATEGORIES:Our Events
END:VEVENT
BEGIN:VEVENT
DTSTART;TZID=UTC:20260725T120000
DTEND;TZID=UTC:20260725T140000
DTSTAMP:20260423T200610
CREATED:20250312T200955Z
LAST-MODIFIED:20260407T144111Z
UID:4721-1784980800-1784988000@www.petesretreat.com
SUMMARY:Paint a Pillowcase
DESCRIPTION:Meet us at the pavilion to paint a pillowcase for your Halloween candy! We provide all the supplies!
URL:https://www.petesretreat.com/event/paint-a-pillowcase/
LOCATION:Pavilion
CATEGORIES:Our Events
END:VEVENT
END:VCALENDAR