BEGIN:VCALENDAR
VERSION:2.0
PRODID:-//Petes Retreat Family Campground and RV Park in Aitkin, MN - ECPv6.15.1.1//NONSGML v1.0//EN
CALSCALE:GREGORIAN
METHOD:PUBLISH
X-WR-CALNAME:Petes Retreat Family Campground and RV Park in Aitkin, MN
X-ORIGINAL-URL:https://www.petesretreat.com
X-WR-CALDESC:Events for Petes Retreat Family Campground and RV Park in Aitkin, MN
REFRESH-INTERVAL;VALUE=DURATION:PT1H
X-Robots-Tag:noindex
X-PUBLISHED-TTL:PT1H
BEGIN:VTIMEZONE
TZID:UTC
BEGIN:STANDARD
TZOFFSETFROM:+0000
TZOFFSETTO:+0000
TZNAME:UTC
DTSTART:20260101T000000
END:STANDARD
END:VTIMEZONE
BEGIN:VTIMEZONE
TZID:America/Chicago
BEGIN:DAYLIGHT
TZOFFSETFROM:-0600
TZOFFSETTO:-0500
TZNAME:CDT
DTSTART:20260308T080000
END:DAYLIGHT
BEGIN:STANDARD
TZOFFSETFROM:-0500
TZOFFSETTO:-0600
TZNAME:CST
DTSTART:20261101T070000
END:STANDARD
END:VTIMEZONE
BEGIN:VEVENT
DTSTART;TZID=UTC:20260509T100000
DTEND;TZID=UTC:20260509T110000
DTSTAMP:20260423T195403
CREATED:20260407T153430Z
LAST-MODIFIED:20260407T160503Z
UID:4927-1778320800-1778324400@www.petesretreat.com
SUMMARY:Pete's Retreat Medallion Hunt Clues
DESCRIPTION:Each Saturday\, Pete’s Retreat will give out 3 clues for a medallion hunt. Starting at 10am\, come to the lodge to get your 1st clue! If not found\, the 2nd clue will be given out at 10:30am. If not found\, the 3rd clue will be given out at 11am. The first one to find the Pete’s Retreat Medallion will win a token! Come exchange the medallion for a token at the lodge!
URL:https://www.petesretreat.com/event/petes-retreat-medallion-hunt-clues-2/
LOCATION:Lodge
CATEGORIES:Our Events
END:VEVENT
BEGIN:VEVENT
DTSTART;TZID=UTC:20260509T140000
DTEND;TZID=UTC:20260509T150000
DTSTAMP:20260423T195403
CREATED:20171227T154529Z
LAST-MODIFIED:20260407T011038Z
UID:395-1778335200-1778338800@www.petesretreat.com
SUMMARY:Mother's Day Craft
DESCRIPTION:Mother’s Day Craft. Join us at the pavilion at 2pm. We provide all the supplies! Bring anyone but your mom to help you! Your craft will be a surprise for your mom!
URL:https://www.petesretreat.com/event/mothers-day-craft/
LOCATION:Pavilion
CATEGORIES:Our Events
ATTACH;FMTTYPE=image/jpeg:https://www.petesretreat.com/wp-content/uploads/2017/12/Kids-Crafts-scaled.jpg
END:VEVENT
BEGIN:VEVENT
DTSTART;TZID=America/Chicago:20260509T163000
DTEND;TZID=America/Chicago:20260509T190000
DTSTAMP:20260423T195403
CREATED:20171227T151622Z
LAST-MODIFIED:20260407T011123Z
UID:389-1778344200-1778353200@www.petesretreat.com
SUMMARY:Seasonal Camper Potluck
DESCRIPTION:4:30PM at the Pavilion. Bring a dish to share!
URL:https://www.petesretreat.com/event/seasonal-camper-potluck/
LOCATION:Pavilion
CATEGORIES:Our Events
ATTACH;FMTTYPE=image/jpeg:https://www.petesretreat.com/wp-content/uploads/2017/12/305965497_759874605281277_8316490572904113741_n.jpg
END:VEVENT
BEGIN:VEVENT
DTSTART;TZID=UTC:20260509T190000
DTEND;TZID=UTC:20260509T200000
DTSTAMP:20260423T195403
CREATED:20260407T011343Z
LAST-MODIFIED:20260407T160449Z
UID:4814-1778353200-1778356800@www.petesretreat.com
SUMMARY:Creative Smores' Making
DESCRIPTION:Bring at least one ingredient to make a creative smore! Pete’s Retreat will have the campfire hot and ready at PC and provide the main smore ingredients (Graham Crackers\, Hershey’s Chocolate\, and Marshmallows) as well as campfire roasting sticks!
URL:https://www.petesretreat.com/event/creative-smores-making/
LOCATION:PC
CATEGORIES:Our Events
END:VEVENT
BEGIN:VEVENT
DTSTART;TZID=America/Chicago:20260510T100000
DTEND;TZID=America/Chicago:20260510T120000
DTSTAMP:20260423T195403
CREATED:20170527T154648Z
LAST-MODIFIED:20260407T011512Z
UID:391-1778407200-1778414400@www.petesretreat.com
SUMMARY:Free Ice Cream Bowl for Mommy's
DESCRIPTION:Free Ice Cream Bowl for Mommy’s! Starts at 10:00AM at the Lodge! Happy Mother’s Day!
URL:https://www.petesretreat.com/event/free-ice-cream-cones-for-mommys/
LOCATION:Lodge
CATEGORIES:Our Events
ATTACH;FMTTYPE=image/jpeg:https://www.petesretreat.com/wp-content/uploads/2017/05/Mothers-Day-Ice-Cream-Cone.jpg
END:VEVENT
BEGIN:VEVENT
DTSTART;TZID=UTC:20260516T100000
DTEND;TZID=UTC:20260516T110000
DTSTAMP:20260423T195403
CREATED:20260407T153513Z
LAST-MODIFIED:20260407T160435Z
UID:4929-1778925600-1778929200@www.petesretreat.com
SUMMARY:Pete's Retreat Medallion Hunt Clues
DESCRIPTION:Each Saturday\, Pete’s Retreat will give out 3 clues for a medallion hunt. Starting at 10am\, come to the lodge to get your 1st clue! If not found\, the 2nd clue will be given out at 10:30am. If not found\, the 3rd clue will be given out at 11am. The first one to find the Pete’s Retreat Medallion will win a token! Come exchange the medallion for a token at the lodge!
URL:https://www.petesretreat.com/event/petes-retreat-medallion-hunt-clues-3/
LOCATION:Lodge
CATEGORIES:Our Events
END:VEVENT
BEGIN:VEVENT
DTSTART;TZID=UTC:20260516T140000
DTEND;TZID=UTC:20260516T160000
DTSTAMP:20260423T195403
CREATED:20260407T011657Z
LAST-MODIFIED:20260407T160420Z
UID:4817-1778940000-1778947200@www.petesretreat.com
SUMMARY:Build Your Own Ice Cream Sundae
DESCRIPTION:Come to the lodge and join us for building your own ice cream sundae! For $6\, get a bowl of your favorite ice cream with up to three different fun toppings that we will provide!
URL:https://www.petesretreat.com/event/build-your-own-ice-cream-sundae/
LOCATION:Lodge
CATEGORIES:Our Events
END:VEVENT
BEGIN:VEVENT
DTSTART;TZID=UTC:20260516T160000
DTEND;TZID=UTC:20260516T170000
DTSTAMP:20260423T195403
CREATED:20260407T011835Z
LAST-MODIFIED:20260407T160402Z
UID:4819-1778947200-1778950800@www.petesretreat.com
SUMMARY:Pete's Retreat Inspirational Rock Garden Is Born
DESCRIPTION:We would like to start a “Pete’s Retreat Inspirational Rock Garden” in the flower garden near site 15. Find a rock that is between 4-5 inches in diameter\, and bring it to the pavilion to paint it with us! Throughout the year\, continue adding! You can continue to paint rocks and add them to the garden!
URL:https://www.petesretreat.com/event/petes-retreat-inspirational-rock-garden-is-born/
LOCATION:Pavilion
CATEGORIES:Our Events
END:VEVENT
BEGIN:VEVENT
DTSTART;VALUE=DATE:20260522
DTEND;VALUE=DATE:20260523
DTSTAMP:20260423T195403
CREATED:20230310T155959Z
LAST-MODIFIED:20260407T012606Z
UID:4274-1779408000-1779494399@www.petesretreat.com
SUMMARY:Pools Open
DESCRIPTION:POOLS OPEN at 9:00AM! YAY!!! We hope you have so much fun!
URL:https://www.petesretreat.com/event/pool-opens/
LOCATION:Lodge
CATEGORIES:Our Events
ATTACH;FMTTYPE=image/jpeg:https://www.petesretreat.com/wp-content/uploads/2023/02/p3-1.jpg
END:VEVENT
BEGIN:VEVENT
DTSTART;TZID=UTC:20260523T090000
DTEND;TZID=UTC:20260523T120000
DTSTAMP:20260423T195403
CREATED:20260407T012148Z
LAST-MODIFIED:20260407T160340Z
UID:4823-1779526800-1779537600@www.petesretreat.com
SUMMARY:Garage Sale/Independent Business Sale Day
DESCRIPTION:Bring up your garage sale items/things you sell at your independent business and put them for sale at your site!!! You must take items back home with you that do not sell. Please\, no dumping in our dumpsters.
URL:https://www.petesretreat.com/event/garage-sale-independent-business-sale-day/
LOCATION:Campground
CATEGORIES:Our Events
END:VEVENT
BEGIN:VEVENT
DTSTART;TZID=UTC:20260523T100000
DTEND;TZID=UTC:20260523T110000
DTSTAMP:20260423T195403
CREATED:20260407T153622Z
LAST-MODIFIED:20260407T160324Z
UID:4931-1779530400-1779534000@www.petesretreat.com
SUMMARY:Pete's Retreat Medallion Hunt Clues
DESCRIPTION:Each Saturday\, Pete’s Retreat will give out 3 clues for a medallion hunt. Starting at 10am\, come to the lodge to get your 1st clue! If not found\, the 2nd clue will be given out at 10:30am. If not found\, the 3rd clue will be given out at 11am. The first one to find the Pete’s Retreat Medallion will win a token! Come exchange the medallion for a token at the lodge!
URL:https://www.petesretreat.com/event/petes-retreat-medallion-hunt-clues-4/
LOCATION:Lodge
CATEGORIES:Our Events
END:VEVENT
BEGIN:VEVENT
DTSTART;TZID=UTC:20260523T140000
DTEND;TZID=UTC:20260523T170000
DTSTAMP:20260423T195403
CREATED:20250312T193716Z
LAST-MODIFIED:20260407T012326Z
UID:4704-1779544800-1779555600@www.petesretreat.com
SUMMARY:Thielen's Meat Raffle
DESCRIPTION:Meet us at the pavilion for the meat raffle!!! If you’ve never had Thielen’s Meat before\, you WON’T want to miss this!
URL:https://www.petesretreat.com/event/thielens-meat-raffle/
LOCATION:Pavilion
CATEGORIES:Our Events
END:VEVENT
BEGIN:VEVENT
DTSTART;TZID=America/Chicago:20260523T190000
DTEND;TZID=America/Chicago:20260523T193000
DTSTAMP:20260423T195403
CREATED:20230310T163936Z
LAST-MODIFIED:20260407T012416Z
UID:4277-1779562800-1779564600@www.petesretreat.com
SUMMARY:Hayride
DESCRIPTION:Hayride at 7:00PM! Meet on west side of the lodge.
URL:https://www.petesretreat.com/event/hayride/
LOCATION:Lodge
CATEGORIES:Our Events
ATTACH;FMTTYPE=image/jpeg:https://www.petesretreat.com/wp-content/uploads/2023/03/Hayride-1-scaled.jpg
END:VEVENT
BEGIN:VEVENT
DTSTART;TZID=UTC:20260523T200000
DTEND;TZID=UTC:20260523T220000
DTSTAMP:20260423T195403
CREATED:20250312T190401Z
LAST-MODIFIED:20260407T012518Z
UID:4676-1779566400-1779573600@www.petesretreat.com
SUMMARY:Outdoor Movie Night
DESCRIPTION:Outdoor Movie Night! 8PM at the pavilion. Popcorn provided!
URL:https://www.petesretreat.com/event/outdoor-movie-night/
LOCATION:Pavilion
CATEGORIES:Our Events
END:VEVENT
BEGIN:VEVENT
DTSTART;TZID=America/Chicago:20260524T140000
DTEND;TZID=America/Chicago:20260524T170000
DTSTAMP:20260423T195403
CREATED:20230310T010837Z
LAST-MODIFIED:20260407T012848Z
UID:4266-1779631200-1779642000@www.petesretreat.com
SUMMARY:Adult Bingo
DESCRIPTION:Adult Bingo! 2:00PM at the Pavilion! 10 Games. $20 per card. Each card has 10 games. Each prize is at least a $30+ prize.
URL:https://www.petesretreat.com/event/my-pretty-little-signs/
LOCATION:Pavilion
CATEGORIES:Our Events
ATTACH;FMTTYPE=image/png:https://www.petesretreat.com/wp-content/uploads/2023/03/Bingo.png
END:VEVENT
BEGIN:VEVENT
DTSTART;TZID=UTC:20260524T183000
DTEND;TZID=UTC:20260524T230000
DTSTAMP:20260423T195403
CREATED:20230310T164307Z
LAST-MODIFIED:20260407T013023Z
UID:4281-1779647400-1779663600@www.petesretreat.com
SUMMARY:Karaoke
DESCRIPTION:Join us for Karaoke at 6:30PM at the Pavilion. Bring your singing voices! All ages are welcome! Kids sing from 6:30pm-7:30pm
URL:https://www.petesretreat.com/event/karaoke/
LOCATION:Pavilion
CATEGORIES:Our Events
ATTACH;FMTTYPE=image/jpeg:https://www.petesretreat.com/wp-content/uploads/2023/03/sing.jpg
END:VEVENT
BEGIN:VEVENT
DTSTART;TZID=UTC:20260530T100000
DTEND;TZID=UTC:20260530T110000
DTSTAMP:20260423T195403
CREATED:20260407T153645Z
LAST-MODIFIED:20260407T160305Z
UID:4933-1780135200-1780138800@www.petesretreat.com
SUMMARY:Pete's Retreat Medallion Hunt Clues
DESCRIPTION:Each Saturday\, Pete’s Retreat will give out 3 clues for a medallion hunt. Starting at 10am\, come to the lodge to get your 1st clue! If not found\, the 2nd clue will be given out at 10:30am. If not found\, the 3rd clue will be given out at 11am. The first one to find the Pete’s Retreat Medallion will win a token! Come exchange the medallion for a token at the lodge!
URL:https://www.petesretreat.com/event/petes-retreat-medallion-hunt-clues-5/
LOCATION:Lodge
CATEGORIES:Our Events
END:VEVENT
BEGIN:VEVENT
DTSTART;TZID=UTC:20260530T140000
DTEND;TZID=UTC:20260530T150000
DTSTAMP:20260423T195403
CREATED:20230310T171009Z
LAST-MODIFIED:20260407T013116Z
UID:4283-1780149600-1780153200@www.petesretreat.com
SUMMARY:Puffy Slime Making
DESCRIPTION:Come make some puffy slime with us! We provide all the supplies! Bring a parent to help!
URL:https://www.petesretreat.com/event/eat-it-or-wear/
LOCATION:Pavilion
CATEGORIES:Our Events
ATTACH;FMTTYPE=image/jpeg:https://www.petesretreat.com/wp-content/uploads/2023/03/Slime.jpg
END:VEVENT
BEGIN:VEVENT
DTSTART;TZID=UTC:20260530T190000
DTEND;TZID=UTC:20260530T193000
DTSTAMP:20260423T195403
CREATED:20230310T174829Z
LAST-MODIFIED:20260407T013206Z
UID:4278-1780167600-1780169400@www.petesretreat.com
SUMMARY:Hayride
DESCRIPTION:Hayride at 7:00PM! Meet on west side of lodge!
URL:https://www.petesretreat.com/event/hayride2/
LOCATION:Lodge
CATEGORIES:Our Events
ATTACH;FMTTYPE=image/jpeg:https://www.petesretreat.com/wp-content/uploads/2023/03/Hayride-1-scaled.jpg
END:VEVENT
BEGIN:VEVENT
DTSTART;TZID=UTC:20260606T100000
DTEND;TZID=UTC:20260606T110000
DTSTAMP:20260423T195403
CREATED:20260407T153715Z
LAST-MODIFIED:20260407T160247Z
UID:4935-1780740000-1780743600@www.petesretreat.com
SUMMARY:Pete's Retreat Medallion Hunt Clues
DESCRIPTION:Each Saturday\, Pete’s Retreat will give out 3 clues for a medallion hunt. Starting at 10am\, come to the lodge to get your 1st clue! If not found\, the 2nd clue will be given out at 10:30am. If not found\, the 3rd clue will be given out at 11am. The first one to find the Pete’s Retreat Medallion will win a token! Come exchange the medallion for a token at the lodge!
URL:https://www.petesretreat.com/event/petes-retreat-medallion-hunt-clues-6/
LOCATION:Lodge
CATEGORIES:Our Events
END:VEVENT
BEGIN:VEVENT
DTSTART;TZID=UTC:20260606T110000
DTEND;TZID=UTC:20260606T130000
DTSTAMP:20260423T195403
CREATED:20250312T191136Z
LAST-MODIFIED:20260407T013438Z
UID:4683-1780743600-1780750800@www.petesretreat.com
SUMMARY:Brunch Potluck
DESCRIPTION:Join us at 11am at the Pavilion for a brunch potluck! Bring a breakfast/brunch item to share!
URL:https://www.petesretreat.com/event/hot-dish-cook-off/
LOCATION:Pavilion
CATEGORIES:Our Events
END:VEVENT
BEGIN:VEVENT
DTSTART;TZID=UTC:20260606T160000
DTEND;TZID=UTC:20260606T170000
DTSTAMP:20260423T195403
CREATED:20250312T203446Z
LAST-MODIFIED:20260407T013622Z
UID:4758-1780761600-1780765200@www.petesretreat.com
SUMMARY:Kickball Tournament
DESCRIPTION:Come join us at 4pm at the Pavilion! The more the merrier!
URL:https://www.petesretreat.com/event/kickball-tournament/
LOCATION:Pavilion
CATEGORIES:Our Events
END:VEVENT
BEGIN:VEVENT
DTSTART;TZID=America/Chicago:20260606T190000
DTEND;TZID=America/Chicago:20260606T193000
DTSTAMP:20260423T195403
CREATED:20230310T175425Z
LAST-MODIFIED:20260407T013729Z
UID:4294-1780772400-1780774200@www.petesretreat.com
SUMMARY:Hayride
DESCRIPTION:Hayride at 7:00PM. Meet on west side of lodge!
URL:https://www.petesretreat.com/event/hayride-3/
LOCATION:Lodge
CATEGORIES:Our Events
ATTACH;FMTTYPE=image/jpeg:https://www.petesretreat.com/wp-content/uploads/2023/03/Hayride-1-scaled.jpg
END:VEVENT
BEGIN:VEVENT
DTSTART;TZID=America/Chicago:20260608T080000
DTEND;TZID=America/Chicago:20260612T110000
DTSTAMP:20260423T195403
CREATED:20230310T211753Z
LAST-MODIFIED:20260407T013855Z
UID:4333-1780905600-1781262000@www.petesretreat.com
SUMMARY:Swimming Lessons
DESCRIPTION:6/8/26 – 6/12/26 – Swimming Lessons! 8AM – 11AM each day. Classes are 30 minutes each. To sign up\, visit our website at www.petesretreat.com and click “information – swimming lessons”. Read the information listed\, complete the consent form and we will be in contact with you! Classes fill up fast – sign up today! The big pool will be closed to regular swimmers until 11am each day this week. Sorry for any inconvenience!
URL:https://www.petesretreat.com/event/swimming-lessons-2/
LOCATION:Lodge
CATEGORIES:Our Events
ATTACH;FMTTYPE=image/jpeg:https://www.petesretreat.com/wp-content/uploads/2023/03/Swimming-Lessons-scaled.jpg
END:VEVENT
BEGIN:VEVENT
DTSTART;TZID=America/Chicago:20260611T190000
DTEND;TZID=America/Chicago:20260611T200000
DTSTAMP:20260423T195403
CREATED:20230310T175649Z
LAST-MODIFIED:20260407T013945Z
UID:4295-1781204400-1781208000@www.petesretreat.com
SUMMARY:Free Smores
DESCRIPTION:Free Smores at 7:00PM at the firepit near the pond! Come join us!!!
URL:https://www.petesretreat.com/event/free-smores/
LOCATION:Pond
CATEGORIES:Our Events
ATTACH;FMTTYPE=image/jpeg:https://www.petesretreat.com/wp-content/uploads/2023/03/smore.jpg
END:VEVENT
BEGIN:VEVENT
DTSTART;TZID=UTC:20260613T100000
DTEND;TZID=UTC:20260613T110000
DTSTAMP:20260423T195403
CREATED:20260407T153744Z
LAST-MODIFIED:20260407T160219Z
UID:4937-1781344800-1781348400@www.petesretreat.com
SUMMARY:Pete's Retreat Medallion Hunt Clues
DESCRIPTION:Each Saturday\, Pete’s Retreat will give out 3 clues for a medallion hunt. Starting at 10am\, come to the lodge to get your 1st clue! If not found\, the 2nd clue will be given out at 10:30am. If not found\, the 3rd clue will be given out at 11am. The first one to find the Pete’s Retreat Medallion will win a token! Come exchange the medallion for a token at the lodge!
URL:https://www.petesretreat.com/event/petes-retreat-medallion-hunt-clues-7/
LOCATION:Lodge
CATEGORIES:Our Events
END:VEVENT
BEGIN:VEVENT
DTSTART;TZID=UTC:20260613T110000
DTEND;TZID=UTC:20260613T130000
DTSTAMP:20260423T195403
CREATED:20260407T014215Z
LAST-MODIFIED:20260407T160200Z
UID:4845-1781348400-1781355600@www.petesretreat.com
SUMMARY:Cookie Decorating
DESCRIPTION:Thanks to our dear friend\, Miranda Mossberg\, we are all going to learn how to do cookie decorating!!! Cookies will be pre-baked. Each person will be able to decorate 6 cookies for $12. All supplies included. Sign up on the google form I send out\, by May 31st 2026 to reserve your spot!
URL:https://www.petesretreat.com/event/cookie-decorating/
LOCATION:Pavilion
CATEGORIES:Our Events
END:VEVENT
BEGIN:VEVENT
DTSTART;TZID=UTC:20260613T160000
DTEND;TZID=UTC:20260613T180000
DTSTAMP:20260423T195403
CREATED:20260407T014355Z
LAST-MODIFIED:20260407T160112Z
UID:4847-1781366400-1781373600@www.petesretreat.com
SUMMARY:Smoked Foods Potluck
DESCRIPTION:Meet us at the Pavilion at 4pm! Bring your favorite smoked food item to share!
URL:https://www.petesretreat.com/event/smoked-foods-potluck/
LOCATION:Pavilion
CATEGORIES:Our Events
END:VEVENT
BEGIN:VEVENT
DTSTART;TZID=America/Chicago:20260613T190000
DTEND;TZID=America/Chicago:20260613T193000
DTSTAMP:20260423T195403
CREATED:20230310T183904Z
LAST-MODIFIED:20260407T021256Z
UID:4302-1781377200-1781379000@www.petesretreat.com
SUMMARY:Hayride
DESCRIPTION:Hayride at 7:00PM! Meet on west side of the lodge!
URL:https://www.petesretreat.com/event/hayride-2/
LOCATION:Lodge
CATEGORIES:Our Events
ATTACH;FMTTYPE=image/jpeg:https://www.petesretreat.com/wp-content/uploads/2023/03/Hayride-1-scaled.jpg
END:VEVENT
BEGIN:VEVENT
DTSTART;TZID=UTC:20260620T100000
DTEND;TZID=UTC:20260620T110000
DTSTAMP:20260423T195403
CREATED:20260407T153806Z
LAST-MODIFIED:20260407T160056Z
UID:4939-1781949600-1781953200@www.petesretreat.com
SUMMARY:Pete's Retreat Medallion Hunt Clues
DESCRIPTION:Each Saturday\, Pete’s Retreat will give out 3 clues for a medallion hunt. Starting at 10am\, come to the lodge to get your 1st clue! If not found\, the 2nd clue will be given out at 10:30am. If not found\, the 3rd clue will be given out at 11am. The first one to find the Pete’s Retreat Medallion will win a token! Come exchange the medallion for a token at the lodge!
URL:https://www.petesretreat.com/event/petes-retreat-medallion-hunt-clues-8/
LOCATION:Lodge
CATEGORIES:Our Events
END:VEVENT
END:VCALENDAR