BEGIN:VCALENDAR
VERSION:2.0
PRODID:-//Petes Retreat Family Campground and RV Park in Aitkin, MN - ECPv6.15.1.1//NONSGML v1.0//EN
CALSCALE:GREGORIAN
METHOD:PUBLISH
X-ORIGINAL-URL:https://www.petesretreat.com
X-WR-CALDESC:Events for Petes Retreat Family Campground and RV Park in Aitkin, MN
REFRESH-INTERVAL;VALUE=DURATION:PT1H
X-Robots-Tag:noindex
X-PUBLISHED-TTL:PT1H
BEGIN:VTIMEZONE
TZID:UTC
BEGIN:STANDARD
TZOFFSETFROM:+0000
TZOFFSETTO:+0000
TZNAME:UTC
DTSTART:20260101T000000
END:STANDARD
END:VTIMEZONE
BEGIN:VTIMEZONE
TZID:America/Chicago
BEGIN:DAYLIGHT
TZOFFSETFROM:-0600
TZOFFSETTO:-0500
TZNAME:CDT
DTSTART:20260308T080000
END:DAYLIGHT
BEGIN:STANDARD
TZOFFSETFROM:-0500
TZOFFSETTO:-0600
TZNAME:CST
DTSTART:20261101T070000
END:STANDARD
END:VTIMEZONE
BEGIN:VEVENT
DTSTART;TZID=UTC:20260912T100000
DTEND;TZID=UTC:20260912T110000
DTSTAMP:20260423T233430
CREATED:20260407T154334Z
LAST-MODIFIED:20260407T155429Z
UID:4963-1789207200-1789210800@www.petesretreat.com
SUMMARY:Pete's Retreat Medallion Hunt Clues
DESCRIPTION:Each Saturday\, Pete’s Retreat will give out 3 clues for a medallion hunt. Starting at 10am\, come to the lodge to get your 1st clue! If not found\, the 2nd clue will be given out at 10:30am. If not found\, the 3rd clue will be given out at 11am. The first one to find the Pete’s Retreat Medallion will win a token! Come exchange the medallion for a token at the lodge!
URL:https://www.petesretreat.com/event/petes-retreat-medallion-hunt-clues-20/
LOCATION:Lodge
CATEGORIES:Our Events
END:VEVENT
BEGIN:VEVENT
DTSTART;TZID=America/Chicago:20260912T100000
DTEND;TZID=America/Chicago:20260912T120000
DTSTAMP:20260423T233430
CREATED:20230310T220314Z
LAST-MODIFIED:20260407T151359Z
UID:4360-1789207200-1789214400@www.petesretreat.com
SUMMARY:Diamond Painting
DESCRIPTION:Make your own Diamond Painting creation! Meet us at 10:00AM at the lodge! Please bring a parent to help you!
URL:https://www.petesretreat.com/event/make-your-own-usa-diamond-painting-keychain/
LOCATION:Lodge
CATEGORIES:Our Events
ATTACH;FMTTYPE=image/jpeg:https://www.petesretreat.com/wp-content/uploads/2023/03/USA.jpg
END:VEVENT
BEGIN:VEVENT
DTSTART;TZID=UTC:20260912T120000
DTEND;TZID=UTC:20260912T190000
DTSTAMP:20260423T233430
CREATED:20250312T204147Z
LAST-MODIFIED:20260407T151438Z
UID:4765-1789214400-1789239600@www.petesretreat.com
SUMMARY:Open Pool Table In The Lodge
DESCRIPTION:Come to the lodge and play open pool!
URL:https://www.petesretreat.com/event/open-pool-table-in-the-lodge/
LOCATION:Lodge
CATEGORIES:Our Events
END:VEVENT
END:VCALENDAR