BEGIN:VCALENDAR
VERSION:2.0
PRODID:-//Petes Retreat Family Campground and RV Park in Aitkin, MN - ECPv6.15.1.1//NONSGML v1.0//EN
CALSCALE:GREGORIAN
METHOD:PUBLISH
X-ORIGINAL-URL:https://www.petesretreat.com
X-WR-CALDESC:Events for Petes Retreat Family Campground and RV Park in Aitkin, MN
REFRESH-INTERVAL;VALUE=DURATION:PT1H
X-Robots-Tag:noindex
X-PUBLISHED-TTL:PT1H
BEGIN:VTIMEZONE
TZID:UTC
BEGIN:STANDARD
TZOFFSETFROM:+0000
TZOFFSETTO:+0000
TZNAME:UTC
DTSTART:20260101T000000
END:STANDARD
END:VTIMEZONE
BEGIN:VTIMEZONE
TZID:America/Chicago
BEGIN:DAYLIGHT
TZOFFSETFROM:-0600
TZOFFSETTO:-0500
TZNAME:CDT
DTSTART:20260308T080000
END:DAYLIGHT
BEGIN:STANDARD
TZOFFSETFROM:-0500
TZOFFSETTO:-0600
TZNAME:CST
DTSTART:20261101T070000
END:STANDARD
END:VTIMEZONE
BEGIN:VEVENT
DTSTART;TZID=UTC:20260822T100000
DTEND;TZID=UTC:20260822T110000
DTSTAMP:20260423T222859
CREATED:20260407T154241Z
LAST-MODIFIED:20260407T155608Z
UID:4957-1787392800-1787396400@www.petesretreat.com
SUMMARY:Pete's Retreat Medallion Hunt Clues
DESCRIPTION:Each Saturday\, Pete’s Retreat will give out 3 clues for a medallion hunt. Starting at 10am\, come to the lodge to get your 1st clue! If not found\, the 2nd clue will be given out at 10:30am. If not found\, the 3rd clue will be given out at 11am. The first one to find the Pete’s Retreat Medallion will win a token! Come exchange the medallion for a token at the lodge!
URL:https://www.petesretreat.com/event/petes-retreat-medallion-hunt-clues-17/
LOCATION:Lodge
CATEGORIES:Our Events
END:VEVENT
BEGIN:VEVENT
DTSTART;TZID=America/Chicago:20260822T140000
DTEND;TZID=America/Chicago:20260822T150000
DTSTAMP:20260423T222859
CREATED:20230310T221451Z
LAST-MODIFIED:20260407T145600Z
UID:4369-1787407200-1787410800@www.petesretreat.com
SUMMARY:Back to School Bingo
DESCRIPTION:Back to School Bingo! Starts at 2:00PM at the Pavilion! This is a Free Bingo event! Win back to school supplies!
URL:https://www.petesretreat.com/event/back-to-school-bingo/
LOCATION:Pavilion
CATEGORIES:Our Events
ATTACH;FMTTYPE=image/png:https://www.petesretreat.com/wp-content/uploads/2023/03/Bingo.png
END:VEVENT
BEGIN:VEVENT
DTSTART;TZID=UTC:20260822T160000
DTEND;TZID=UTC:20260822T190000
DTSTAMP:20260423T222859
CREATED:20250312T203123Z
LAST-MODIFIED:20260407T145640Z
UID:4752-1787414400-1787425200@www.petesretreat.com
SUMMARY:Volleyball Tournament
DESCRIPTION:Come join us! The more the merrier!
URL:https://www.petesretreat.com/event/volleyball-tournament/
LOCATION:Pavilion
CATEGORIES:Our Events
END:VEVENT
BEGIN:VEVENT
DTSTART;TZID=America/Chicago:20260822T190000
DTEND;TZID=America/Chicago:20260822T193000
DTSTAMP:20260423T222859
CREATED:20230310T214820Z
LAST-MODIFIED:20260407T145804Z
UID:4349-1787425200-1787427000@www.petesretreat.com
SUMMARY:Hayride
DESCRIPTION:Hayride at 7:00PM! Meet on the west side of the lodge!
URL:https://www.petesretreat.com/event/hayride-13/
LOCATION:Lodge
CATEGORIES:Our Events
ATTACH;FMTTYPE=image/jpeg:https://www.petesretreat.com/wp-content/uploads/2023/02/4-4.jpg
END:VEVENT
BEGIN:VEVENT
DTSTART;TZID=America/Chicago:20260822T210000
DTEND;TZID=America/Chicago:20260822T230000
DTSTAMP:20260423T222859
CREATED:20230310T220906Z
LAST-MODIFIED:20260407T145840Z
UID:4366-1787432400-1787439600@www.petesretreat.com
SUMMARY:After Hours Kids Pool Party
DESCRIPTION:After Hours Kids Pool Party! Starts at 9:00 PM\, Ends at 11PM. Adults must accompany children 14 years of age or younger.
URL:https://www.petesretreat.com/event/kids-after-hours-pool-party/
LOCATION:Lodge
CATEGORIES:Our Events
ATTACH;FMTTYPE=image/jpeg:https://www.petesretreat.com/wp-content/uploads/2023/02/p3-1.jpg
END:VEVENT
END:VCALENDAR