BEGIN:VCALENDAR
VERSION:2.0
PRODID:-//Petes Retreat Family Campground and RV Park in Aitkin, MN - ECPv6.15.1.1//NONSGML v1.0//EN
CALSCALE:GREGORIAN
METHOD:PUBLISH
X-WR-CALNAME:Petes Retreat Family Campground and RV Park in Aitkin, MN
X-ORIGINAL-URL:https://www.petesretreat.com
X-WR-CALDESC:Events for Petes Retreat Family Campground and RV Park in Aitkin, MN
REFRESH-INTERVAL;VALUE=DURATION:PT1H
X-Robots-Tag:noindex
X-PUBLISHED-TTL:PT1H
BEGIN:VTIMEZONE
TZID:UTC
BEGIN:STANDARD
TZOFFSETFROM:+0000
TZOFFSETTO:+0000
TZNAME:UTC
DTSTART:20260101T000000
END:STANDARD
END:VTIMEZONE
BEGIN:VEVENT
DTSTART;TZID=UTC:20260516T100000
DTEND;TZID=UTC:20260516T110000
DTSTAMP:20260423T184146
CREATED:20260407T153513Z
LAST-MODIFIED:20260407T160435Z
UID:4929-1778925600-1778929200@www.petesretreat.com
SUMMARY:Pete's Retreat Medallion Hunt Clues
DESCRIPTION:Each Saturday\, Pete’s Retreat will give out 3 clues for a medallion hunt. Starting at 10am\, come to the lodge to get your 1st clue! If not found\, the 2nd clue will be given out at 10:30am. If not found\, the 3rd clue will be given out at 11am. The first one to find the Pete’s Retreat Medallion will win a token! Come exchange the medallion for a token at the lodge!
URL:https://www.petesretreat.com/event/petes-retreat-medallion-hunt-clues-3/
LOCATION:Lodge
CATEGORIES:Our Events
END:VEVENT
BEGIN:VEVENT
DTSTART;TZID=UTC:20260516T140000
DTEND;TZID=UTC:20260516T160000
DTSTAMP:20260423T184146
CREATED:20260407T011657Z
LAST-MODIFIED:20260407T160420Z
UID:4817-1778940000-1778947200@www.petesretreat.com
SUMMARY:Build Your Own Ice Cream Sundae
DESCRIPTION:Come to the lodge and join us for building your own ice cream sundae! For $6\, get a bowl of your favorite ice cream with up to three different fun toppings that we will provide!
URL:https://www.petesretreat.com/event/build-your-own-ice-cream-sundae/
LOCATION:Lodge
CATEGORIES:Our Events
END:VEVENT
BEGIN:VEVENT
DTSTART;TZID=UTC:20260516T160000
DTEND;TZID=UTC:20260516T170000
DTSTAMP:20260423T184146
CREATED:20260407T011835Z
LAST-MODIFIED:20260407T160402Z
UID:4819-1778947200-1778950800@www.petesretreat.com
SUMMARY:Pete's Retreat Inspirational Rock Garden Is Born
DESCRIPTION:We would like to start a “Pete’s Retreat Inspirational Rock Garden” in the flower garden near site 15. Find a rock that is between 4-5 inches in diameter\, and bring it to the pavilion to paint it with us! Throughout the year\, continue adding! You can continue to paint rocks and add them to the garden!
URL:https://www.petesretreat.com/event/petes-retreat-inspirational-rock-garden-is-born/
LOCATION:Pavilion
CATEGORIES:Our Events
END:VEVENT
END:VCALENDAR