BEGIN:VCALENDAR
VERSION:2.0
PRODID:-//Petes Retreat Family Campground and RV Park in Aitkin, MN - ECPv6.15.1.1//NONSGML v1.0//EN
CALSCALE:GREGORIAN
METHOD:PUBLISH
X-WR-CALNAME:Petes Retreat Family Campground and RV Park in Aitkin, MN
X-ORIGINAL-URL:https://www.petesretreat.com
X-WR-CALDESC:Events for Petes Retreat Family Campground and RV Park in Aitkin, MN
REFRESH-INTERVAL;VALUE=DURATION:PT1H
X-Robots-Tag:noindex
X-PUBLISHED-TTL:PT1H
BEGIN:VTIMEZONE
TZID:UTC
BEGIN:STANDARD
TZOFFSETFROM:+0000
TZOFFSETTO:+0000
TZNAME:UTC
DTSTART:20260101T000000
END:STANDARD
END:VTIMEZONE
BEGIN:VTIMEZONE
TZID:America/Chicago
BEGIN:DAYLIGHT
TZOFFSETFROM:-0600
TZOFFSETTO:-0500
TZNAME:CDT
DTSTART:20260308T080000
END:DAYLIGHT
BEGIN:STANDARD
TZOFFSETFROM:-0500
TZOFFSETTO:-0600
TZNAME:CST
DTSTART:20261101T070000
END:STANDARD
END:VTIMEZONE
BEGIN:VEVENT
DTSTART;TZID=UTC:20260829T100000
DTEND;TZID=UTC:20260829T110000
DTSTAMP:20260423T195018
CREATED:20260407T154256Z
LAST-MODIFIED:20260407T155552Z
UID:4959-1787997600-1788001200@www.petesretreat.com
SUMMARY:Pete's Retreat Medallion Hunt Clues
DESCRIPTION:Each Saturday\, Pete’s Retreat will give out 3 clues for a medallion hunt. Starting at 10am\, come to the lodge to get your 1st clue! If not found\, the 2nd clue will be given out at 10:30am. If not found\, the 3rd clue will be given out at 11am. The first one to find the Pete’s Retreat Medallion will win a token! Come exchange the medallion for a token at the lodge!
URL:https://www.petesretreat.com/event/petes-retreat-medallion-hunt-clues-18/
LOCATION:Lodge
CATEGORIES:Our Events
END:VEVENT
BEGIN:VEVENT
DTSTART;TZID=America/Chicago:20260829T110000
DTEND;TZID=America/Chicago:20260829T130000
DTSTAMP:20260423T195018
CREATED:20230310T221928Z
LAST-MODIFIED:20260407T155539Z
UID:4375-1788001200-1788008400@www.petesretreat.com
SUMMARY:jBloom Permalinx Permanent Jewelry Event
DESCRIPTION:Please join us at the pavilion at 11AM to get your permanent jewelry! Kids welcome to get permanent jewelry as well! Prices range based on what jewelry item you choose. A pre order link will also be sent out for pre-orders but there will also be jewelry available the day of.
URL:https://www.petesretreat.com/event/jbloom-permalinx-permanent-jewelry-class/
LOCATION:Pavilion
CATEGORIES:Our Events
ATTACH;FMTTYPE=image/jpeg:https://www.petesretreat.com/wp-content/uploads/2023/02/6-7.jpg
END:VEVENT
BEGIN:VEVENT
DTSTART;TZID=UTC:20260829T120000
DTEND;TZID=UTC:20260829T230000
DTSTAMP:20260423T195018
CREATED:20260407T150414Z
LAST-MODIFIED:20260407T155528Z
UID:4900-1788004800-1788044400@www.petesretreat.com
SUMMARY:Pete's Retreat 10 Seasons of Ownership Anniversary Bash
DESCRIPTION:Help us celebrate TEN seasons of ownership!\n12:00PM – 3:00PM – DJ music\n3:00PM – 7:00PM – T and T Duo Band\n7:00PM – ? – DJ Music\nAlso starting at 12:00PM will be: Food Trucks\, Bounce House\, Free Keg Beer\, and MORE!
URL:https://www.petesretreat.com/event/petes-retreat-10-seasons-of-ownership-anniversary-bash/
LOCATION:Pavilion
CATEGORIES:Our Events
END:VEVENT
BEGIN:VEVENT
DTSTART;TZID=America/Chicago:20260829T190000
DTEND;TZID=America/Chicago:20260829T193000
DTSTAMP:20260423T195018
CREATED:20230310T214917Z
LAST-MODIFIED:20260407T150456Z
UID:4351-1788030000-1788031800@www.petesretreat.com
SUMMARY:Hayride
DESCRIPTION:Hayride at 7:00PM. Meet on the west side of the lodge.
URL:https://www.petesretreat.com/event/hayride-14/
LOCATION:Lodge
CATEGORIES:Our Events
ATTACH;FMTTYPE=image/jpeg:https://www.petesretreat.com/wp-content/uploads/2023/02/4-4.jpg
END:VEVENT
END:VCALENDAR