BEGIN:VCALENDAR
VERSION:2.0
PRODID:-//Petes Retreat Family Campground and RV Park in Aitkin, MN - ECPv6.15.1.1//NONSGML v1.0//EN
CALSCALE:GREGORIAN
METHOD:PUBLISH
X-ORIGINAL-URL:https://www.petesretreat.com
X-WR-CALDESC:Events for Petes Retreat Family Campground and RV Park in Aitkin, MN
REFRESH-INTERVAL;VALUE=DURATION:PT1H
X-Robots-Tag:noindex
X-PUBLISHED-TTL:PT1H
BEGIN:VTIMEZONE
TZID:UTC
BEGIN:STANDARD
TZOFFSETFROM:+0000
TZOFFSETTO:+0000
TZNAME:UTC
DTSTART:20260101T000000
END:STANDARD
END:VTIMEZONE
BEGIN:VTIMEZONE
TZID:America/Chicago
BEGIN:DAYLIGHT
TZOFFSETFROM:-0600
TZOFFSETTO:-0500
TZNAME:CDT
DTSTART:20260308T080000
END:DAYLIGHT
BEGIN:STANDARD
TZOFFSETFROM:-0500
TZOFFSETTO:-0600
TZNAME:CST
DTSTART:20261101T070000
END:STANDARD
END:VTIMEZONE
BEGIN:VEVENT
DTSTART;TZID=UTC:20260815T100000
DTEND;TZID=UTC:20260815T110000
DTSTAMP:20260423T195215
CREATED:20260407T154221Z
LAST-MODIFIED:20260407T155638Z
UID:4955-1786788000-1786791600@www.petesretreat.com
SUMMARY:Pete's Retreat Medallion Hunt Clues
DESCRIPTION:Each Saturday\, Pete’s Retreat will give out 3 clues for a medallion hunt. Starting at 10am\, come to the lodge to get your 1st clue! If not found\, the 2nd clue will be given out at 10:30am. If not found\, the 3rd clue will be given out at 11am. The first one to find the Pete’s Retreat Medallion will win a token! Come exchange the medallion for a token at the lodge!
URL:https://www.petesretreat.com/event/petes-retreat-medallion-hunt-clues-16/
LOCATION:Lodge
CATEGORIES:Our Events
END:VEVENT
BEGIN:VEVENT
DTSTART;TZID=UTC:20260815T140000
DTEND;TZID=UTC:20260815T170000
DTSTAMP:20260423T195215
CREATED:20260407T145422Z
LAST-MODIFIED:20260407T155622Z
UID:4890-1786802400-1786813200@www.petesretreat.com
SUMMARY:Succulent Potting Class
DESCRIPTION:We are so excited to host ‘The Pink And White’ for a succulent potting class! Sign up information to come. $40 per person!
URL:https://www.petesretreat.com/event/succulent-potting-class/
LOCATION:Pavilion
CATEGORIES:Our Events
END:VEVENT
BEGIN:VEVENT
DTSTART;TZID=America/Chicago:20260815T190000
DTEND;TZID=America/Chicago:20260815T193000
DTSTAMP:20260423T195215
CREATED:20230310T214738Z
LAST-MODIFIED:20260407T145448Z
UID:4347-1786820400-1786822200@www.petesretreat.com
SUMMARY:Hayride
DESCRIPTION:Hayride at 7:00PM. Meet on the west side of the lodge!
URL:https://www.petesretreat.com/event/hayride-12/
LOCATION:Lodge
CATEGORIES:Our Events
ATTACH;FMTTYPE=image/jpeg:https://www.petesretreat.com/wp-content/uploads/2023/02/4-4.jpg
END:VEVENT
BEGIN:VEVENT
DTSTART;TZID=UTC:20260815T200000
DTEND;TZID=UTC:20260815T220000
DTSTAMP:20260423T195215
CREATED:20250312T202830Z
LAST-MODIFIED:20260407T145514Z
UID:4748-1786824000-1786831200@www.petesretreat.com
SUMMARY:Outdoor Movie Night
DESCRIPTION:Outdoor Movie Night! 8PM at the pavilion. Popcorn provided!
URL:https://www.petesretreat.com/event/outdoor-movie-night-2/
LOCATION:Pavilion
CATEGORIES:Our Events
END:VEVENT
END:VCALENDAR