BEGIN:VCALENDAR
VERSION:2.0
PRODID:-//Petes Retreat Family Campground and RV Park in Aitkin, MN - ECPv6.15.1.1//NONSGML v1.0//EN
CALSCALE:GREGORIAN
METHOD:PUBLISH
X-ORIGINAL-URL:https://www.petesretreat.com
X-WR-CALDESC:Events for Petes Retreat Family Campground and RV Park in Aitkin, MN
REFRESH-INTERVAL;VALUE=DURATION:PT1H
X-Robots-Tag:noindex
X-PUBLISHED-TTL:PT1H
BEGIN:VTIMEZONE
TZID:America/Chicago
BEGIN:DAYLIGHT
TZOFFSETFROM:-0600
TZOFFSETTO:-0500
TZNAME:CDT
DTSTART:20260308T080000
END:DAYLIGHT
BEGIN:STANDARD
TZOFFSETFROM:-0500
TZOFFSETTO:-0600
TZNAME:CST
DTSTART:20261101T070000
END:STANDARD
END:VTIMEZONE
BEGIN:VEVENT
DTSTART;TZID=America/Chicago:20260813T190000
DTEND;TZID=America/Chicago:20260813T200000
DTSTAMP:20260423T195216
CREATED:20230310T220425Z
LAST-MODIFIED:20260407T145245Z
UID:4362-1786647600-1786651200@www.petesretreat.com
SUMMARY:Free Smores
DESCRIPTION:Free Smores at 7:00PM! Meet us at the firepit near the pond! Come join us!!!
URL:https://www.petesretreat.com/event/free-smores-3/
LOCATION:Pond
CATEGORIES:Our Events
ATTACH;FMTTYPE=image/jpeg:https://www.petesretreat.com/wp-content/uploads/2023/03/smore.jpg
END:VEVENT
END:VCALENDAR