BEGIN:VCALENDAR
VERSION:2.0
PRODID:-//Petes Retreat Family Campground and RV Park in Aitkin, MN - ECPv6.15.1.1//NONSGML v1.0//EN
CALSCALE:GREGORIAN
METHOD:PUBLISH
X-ORIGINAL-URL:https://www.petesretreat.com
X-WR-CALDESC:Events for Petes Retreat Family Campground and RV Park in Aitkin, MN
REFRESH-INTERVAL;VALUE=DURATION:PT1H
X-Robots-Tag:noindex
X-PUBLISHED-TTL:PT1H
BEGIN:VTIMEZONE
TZID:UTC
BEGIN:STANDARD
TZOFFSETFROM:+0000
TZOFFSETTO:+0000
TZNAME:UTC
DTSTART:20260101T000000
END:STANDARD
END:VTIMEZONE
BEGIN:VTIMEZONE
TZID:America/Chicago
BEGIN:DAYLIGHT
TZOFFSETFROM:-0600
TZOFFSETTO:-0500
TZNAME:CDT
DTSTART:20260308T080000
END:DAYLIGHT
BEGIN:STANDARD
TZOFFSETFROM:-0500
TZOFFSETTO:-0600
TZNAME:CST
DTSTART:20261101T070000
END:STANDARD
END:VTIMEZONE
BEGIN:VEVENT
DTSTART;TZID=UTC:20260718T100000
DTEND;TZID=UTC:20260718T110000
DTSTAMP:20260423T183856
CREATED:20260407T154059Z
LAST-MODIFIED:20260407T155925Z
UID:4947-1784368800-1784372400@www.petesretreat.com
SUMMARY:Pete's Retreat Medallion Hunt Clues
DESCRIPTION:Each Saturday\, Pete’s Retreat will give out 3 clues for a medallion hunt. Starting at 10am\, come to the lodge to get your 1st clue! If not found\, the 2nd clue will be given out at 10:30am. If not found\, the 3rd clue will be given out at 11am. The first one to find the Pete’s Retreat Medallion will win a token! Come exchange the medallion for a token at the lodge!
URL:https://www.petesretreat.com/event/petes-retreat-medallion-hunt-clues-12/
LOCATION:Lodge
CATEGORIES:Our Events
END:VEVENT
BEGIN:VEVENT
DTSTART;TZID=America/Chicago:20260718T120000
DTEND;TZID=America/Chicago:20260718T130000
DTSTAMP:20260423T183856
CREATED:20230310T213423Z
LAST-MODIFIED:20260407T143705Z
UID:4337-1784376000-1784379600@www.petesretreat.com
SUMMARY:Minnow Races
DESCRIPTION:Minnow Races. Meet us at the Pavilion at 12:00PM! We provide the minnows!
URL:https://www.petesretreat.com/event/minnow-races/
LOCATION:Pavilion
CATEGORIES:Our Events
ATTACH;FMTTYPE=image/jpeg:https://www.petesretreat.com/wp-content/uploads/2023/03/Minnow-Races-scaled.jpg
END:VEVENT
BEGIN:VEVENT
DTSTART;TZID=America/Chicago:20260718T140000
DTEND;TZID=America/Chicago:20260718T150000
DTSTAMP:20260423T183856
CREATED:20230310T213710Z
LAST-MODIFIED:20260407T143750Z
UID:4339-1784383200-1784386800@www.petesretreat.com
SUMMARY:Kids Fishing Contest
DESCRIPTION:Kids Fishing Contest! Starts at 2:00PM Sharp at the Pavilion/Fishing Pond. Who will win this year?!?! There are some big fish in the pond!
URL:https://www.petesretreat.com/event/kids-fishing-contest/
LOCATION:Pond
CATEGORIES:Our Events
ATTACH;FMTTYPE=image/jpeg:https://www.petesretreat.com/wp-content/uploads/2023/03/Kids-Fishing-Contest-scaled.jpg
END:VEVENT
BEGIN:VEVENT
DTSTART;TZID=UTC:20260718T160000
DTEND;TZID=UTC:20260718T170000
DTSTAMP:20260423T183856
CREATED:20240109T023512Z
LAST-MODIFIED:20260407T143836Z
UID:4589-1784390400-1784394000@www.petesretreat.com
SUMMARY:Campground Wiffle Ball Game
DESCRIPTION:Join us at the pavilion for a campground wiffle ball game at 4pm! All ages welcome!
URL:https://www.petesretreat.com/event/campground-baseball-game/
LOCATION:Pavilion
CATEGORIES:Our Events
END:VEVENT
BEGIN:VEVENT
DTSTART;TZID=America/Chicago:20260718T190000
DTEND;TZID=America/Chicago:20260718T193000
DTSTAMP:20260423T183856
CREATED:20230310T214344Z
LAST-MODIFIED:20260407T143907Z
UID:4341-1784401200-1784403000@www.petesretreat.com
SUMMARY:Hayride
DESCRIPTION:Hayride at 7:00PM! Meet on the west side of the lodge!
URL:https://www.petesretreat.com/event/hayride-9/
LOCATION:Lodge
CATEGORIES:Our Events
ATTACH;FMTTYPE=image/jpeg:https://www.petesretreat.com/wp-content/uploads/2023/02/4-4.jpg
END:VEVENT
END:VCALENDAR