BEGIN:VCALENDAR
VERSION:2.0
PRODID:-//Petes Retreat Family Campground and RV Park in Aitkin, MN - ECPv6.15.1.1//NONSGML v1.0//EN
CALSCALE:GREGORIAN
METHOD:PUBLISH
X-ORIGINAL-URL:https://www.petesretreat.com
X-WR-CALDESC:Events for Petes Retreat Family Campground and RV Park in Aitkin, MN
REFRESH-INTERVAL;VALUE=DURATION:PT1H
X-Robots-Tag:noindex
X-PUBLISHED-TTL:PT1H
BEGIN:VTIMEZONE
TZID:America/Chicago
BEGIN:DAYLIGHT
TZOFFSETFROM:-0600
TZOFFSETTO:-0500
TZNAME:CDT
DTSTART:20260308T080000
END:DAYLIGHT
BEGIN:STANDARD
TZOFFSETFROM:-0500
TZOFFSETTO:-0600
TZNAME:CST
DTSTART:20261101T070000
END:STANDARD
END:VTIMEZONE
BEGIN:VEVENT
DTSTART;TZID=America/Chicago:20260627T180000
DTEND;TZID=America/Chicago:20260628T020000
DTSTAMP:20260423T172021
CREATED:20230310T184447Z
LAST-MODIFIED:20260407T142515Z
UID:4308-1782583200-1782612000@www.petesretreat.com
SUMMARY:Pete's Retreat Prom
DESCRIPTION:Pete’s Retreat Prom! Starts at 6:00PM at the Pavilion. This years theme is a decades/neon glow party! Reminder that quiet time has been moved to approximately 2AM for this event!
URL:https://www.petesretreat.com/event/prom-hawaiian-theme/
LOCATION:Pavilion
CATEGORIES:Our Events
ATTACH;FMTTYPE=image/jpeg:https://www.petesretreat.com/wp-content/uploads/2023/03/Prom-scaled.jpg
END:VEVENT
END:VCALENDAR